View In:
ArcGIS JavaScript
ArcGIS Online map viewer
Google Earth
ArcMap
View Footprint In:
ArcGIS Online map viewer
Service Description: Ayres Associates provided the City of Manitowoc, Wisconsin with digital, 4-band orthoimagery services in 2023 as part of WROC. The aerial imagery was collected on April 11th using a Microsoft Vexcel UltraCam Eagle M3 sensor mounted in a fixed-wing aircraft. Aerial imagery was collected to support 0.25 foot ground sample distance (GSD) orthoimagery to meet ASPRS Class II horizontal accuracy specifications at 1" = 50' map scale. The 3-inch pixel orthoimagery was produced to meet or exceed a horizontal accuracy of 0.7 foot RMSE according to ASPRS Positional Accuracy Standards for Digital Geospatial Data. Resultant orthoimagery was rectified to a DEM created from new LiDAR acquired in 2023. Orthoimagery was delivered in PLSS quarter-section GeoTiff and MrSID tiles and a project wide MrSID mosaic. The project area covers approximately 17.6 square miles. Supplemental Information: The Wisconsin Regional Orthoimagery Consortium (WROC) is a multi-entity group of county members and partners led by regional planning commissions (RPCs) and WROC representatives from Ayres Associates. The goal of the consortium is to build and sustain a multi-participant program to acquire digital orthoimagery and elevation data throughout Wisconsin. Orthoimagery was collected for the City of Manitowoc in 2023 to provide consistent deliverable products and accuracy standards for each of the participating entities.
Name: 2023_Aerials
Description: Ayres Associates provided the City of Manitowoc, Wisconsin with digital, 4-band orthoimagery services in 2023 as part of WROC. The aerial imagery was collected on April 11th using a Microsoft Vexcel UltraCam Eagle M3 sensor mounted in a fixed-wing aircraft. Aerial imagery was collected to support 0.25 foot ground sample distance (GSD) orthoimagery to meet ASPRS Class II horizontal accuracy specifications at 1" = 50' map scale. The 3-inch pixel orthoimagery was produced to meet or exceed a horizontal accuracy of 0.7 foot RMSE according to ASPRS Positional Accuracy Standards for Digital Geospatial Data. Resultant orthoimagery was rectified to a DEM created from new LiDAR acquired in 2023. Orthoimagery was delivered in PLSS quarter-section GeoTiff and MrSID tiles and a project wide MrSID mosaic. The project area covers approximately 17.6 square miles. Supplemental Information: The Wisconsin Regional Orthoimagery Consortium (WROC) is a multi-entity group of county members and partners led by regional planning commissions (RPCs) and WROC representatives from Ayres Associates. The goal of the consortium is to build and sustain a multi-participant program to acquire digital orthoimagery and elevation data throughout Wisconsin. Orthoimagery was collected for the City of Manitowoc in 2023 to provide consistent deliverable products and accuracy standards for each of the participating entities.
Single Fused Map Cache: false
Extent:
XMin: 203693.08
YMin: 283498.191
XMax: 246115.08
YMax: 325933.441
Spatial Reference: PROJCS["NAD_1983_2011_WISCRS_Kewaunee_Manitowoc_Sheboygan_Feet",GEOGCS["GCS_NAD83_2011",DATUM["D_NAD_1983_2011",SPHEROID["GRS_1980",6378137.0,298.257222101]],PRIMEM["Greenwich",0.0],UNIT["Degree",0.0174532925199433]],PROJECTION["Transverse_Mercator"],PARAMETER["false_easting",262000.006],PARAMETER["false_northing",0.004],PARAMETER["central_meridian",-87.55],PARAMETER["scale_factor",1.0000233704],PARAMETER["latitude_of_origin",43.26666666666667],UNIT["Foot_US",0.3048006096012192]],VERTCS["VCS Name = NAVD88 height - Geoid12B (ftUS)|Datum Name = North American Vertical",VDATUM["North American Vertical Datum 1988"],PARAMETER["Vertical_Shift",0.0],PARAMETER["Direction",1.0],UNIT["US survey foot",0.3048006096012192]]
Initial Extent:
XMin: 203693.08
YMin: 283498.191
XMax: 246115.08
YMax: 325933.441
Spatial Reference: PROJCS["NAD_1983_2011_WISCRS_Kewaunee_Manitowoc_Sheboygan_Feet",GEOGCS["GCS_NAD83_2011",DATUM["D_NAD_1983_2011",SPHEROID["GRS_1980",6378137.0,298.257222101]],PRIMEM["Greenwich",0.0],UNIT["Degree",0.0174532925199433]],PROJECTION["Transverse_Mercator"],PARAMETER["false_easting",262000.006],PARAMETER["false_northing",0.004],PARAMETER["central_meridian",-87.55],PARAMETER["scale_factor",1.0000233704],PARAMETER["latitude_of_origin",43.26666666666667],UNIT["Foot_US",0.3048006096012192]],VERTCS["VCS Name = NAVD88 height - Geoid12B (ftUS)|Datum Name = North American Vertical",VDATUM["North American Vertical Datum 1988"],PARAMETER["Vertical_Shift",0.0],PARAMETER["Direction",1.0],UNIT["US survey foot",0.3048006096012192]]
Full Extent:
XMin: 203693.08
YMin: 283498.191
XMax: 246115.08
YMax: 325933.441
Spatial Reference: PROJCS["NAD_1983_2011_WISCRS_Kewaunee_Manitowoc_Sheboygan_Feet",GEOGCS["GCS_NAD83_2011",DATUM["D_NAD_1983_2011",SPHEROID["GRS_1980",6378137.0,298.257222101]],PRIMEM["Greenwich",0.0],UNIT["Degree",0.0174532925199433]],PROJECTION["Transverse_Mercator"],PARAMETER["false_easting",262000.006],PARAMETER["false_northing",0.004],PARAMETER["central_meridian",-87.55],PARAMETER["scale_factor",1.0000233704],PARAMETER["latitude_of_origin",43.26666666666667],UNIT["Foot_US",0.3048006096012192]],VERTCS["VCS Name = NAVD88 height - Geoid12B (ftUS)|Datum Name = North American Vertical",VDATUM["North American Vertical Datum 1988"],PARAMETER["Vertical_Shift",0.0],PARAMETER["Direction",1.0],UNIT["US survey foot",0.3048006096012192]]
Pixel Size X: 0.25
Pixel Size Y: 0.25
Band Count: 3
Pixel Type: U8
RasterFunction Infos: N/A
Mensuration Capabilities: Basic
Has Histograms: true
Has Colormap: false
Has Multi Dimensions : false
Rendering Rule:
Min Scale: 0
Max Scale: 0
Copyright Text:
Service Data Type: esriImageServiceDataTypeRGB
Min Values: 0, 0, 5
Max Values: 255, 255, 255
Mean Values: 163.28378574539, 163.12556249093, 157.3820583539
Standard Deviation Values: 78.409442501354, 77.47895765398, 81.366617280468
Object ID Field:
Fields:
None
Default Mosaic Method: Center
Allowed Mosaic Methods:
SortField:
SortValue: null
Mosaic Operator: First
Default Compression Quality: 75
Default Resampling Method: Bilinear
Max Record Count: null
Max Image Height: 4100
Max Image Width: 15000
Max Download Image Count: null
Max Mosaic Image Count: null
Allow Raster Function: true
Allow Compute TiePoints: false
Supports Statistics: false
Supports Advanced Queries: false
Use StandardizedQueries: true
Raster Type Infos:
Name: Raster Dataset
Description: Supports all ArcGIS Raster Datasets
Help:
Has Raster Attribute Table: false
Edit Fields Info: null
Ownership Based AccessControl For Rasters: null
Child Resources:
Info
Histograms
Key Properties
Legend
MultiDimensionalInfo
rasterFunctionInfos
Supported Operations:
Export Image
Identify
Measure
Compute Histograms
Compute Statistics Histograms
Get Samples
Compute Class Statistics